BEGIN:VCALENDAR
VERSION:2.0
PRODID:-//Caregivers Alberta - ECPv6.7.0//NONSGML v1.0//EN
CALSCALE:GREGORIAN
METHOD:PUBLISH
X-ORIGINAL-URL:https://caregivers.smwsites.com
X-WR-CALDESC:Events for Caregivers Alberta
REFRESH-INTERVAL;VALUE=DURATION:PT1H
X-Robots-Tag:noindex
X-PUBLISHED-TTL:PT1H
BEGIN:VTIMEZONE
TZID:UTC
BEGIN:STANDARD
TZOFFSETFROM:+0000
TZOFFSETTO:+0000
TZNAME:UTC
DTSTART:20190101T000000
END:STANDARD
END:VTIMEZONE
BEGIN:VEVENT
DTSTART;TZID=UTC:20191025T160000
DTEND;TZID=UTC:20191025T180000
DTSTAMP:20260421T051735
CREATED:20190925T232600Z
LAST-MODIFIED:20190925T232600Z
UID:10000050-1572019200-1572026400@caregivers.smwsites.com
SUMMARY:HEAL & Holistopedia Book Launch
DESCRIPTION:
URL:https://caregivers.smwsites.com/calendar-event/your-holistic-earth-book-launch-party/
LOCATION:2001 Sherwood Drive\, 2001 Sherwood Drive\, Sherwood Park\, Canada
END:VEVENT
END:VCALENDAR