BEGIN:VCALENDAR
VERSION:2.0
PRODID:-//Caregivers Alberta - ECPv6.7.0//NONSGML v1.0//EN
CALSCALE:GREGORIAN
METHOD:PUBLISH
X-WR-CALNAME:Caregivers Alberta
X-ORIGINAL-URL:https://caregivers.smwsites.com
X-WR-CALDESC:Events for Caregivers Alberta
REFRESH-INTERVAL;VALUE=DURATION:PT1H
X-Robots-Tag:noindex
X-PUBLISHED-TTL:PT1H
BEGIN:VTIMEZONE
TZID:UTC
BEGIN:STANDARD
TZOFFSETFROM:+0000
TZOFFSETTO:+0000
TZNAME:UTC
DTSTART:20190101T000000
END:STANDARD
END:VTIMEZONE
BEGIN:VEVENT
DTSTART;TZID=UTC:20191008T090000
DTEND;TZID=UTC:20191008T110000
DTSTAMP:20260421T045233
CREATED:20191003T233742Z
LAST-MODIFIED:20191003T233742Z
UID:10000051-1570525200-1570532400@caregivers.smwsites.com
SUMMARY:Funeral Planning 101
DESCRIPTION:Join us on October 8th from 9:00AM – 11:00AM at the Jerry Forbes Centre for Funeral Planning 101\, presented by Bonnie Hoffmann from Pine Box Funerals Inc. \nBonnie’s focus is supporting families through funeral care to meaningful farewells. Bonnie’s energy mixed with a no nonsense style and sense of humour create safe spaces for hard conversations. Bonnie’s goal is to change the current culture of funeral care\, one family at a time. \nThis session will cover many of the most frequently asked questions regarding funeral planning and celebrations of life. \nThrough stories and experience\, Bonnie will engage the group with ideas\, suggestions and the encouragement that you can do it! \nRegister Here!
URL:https://caregivers.smwsites.com/calendar-event/funeral-planning-101/
LOCATION:Jerry Forbes Centre\, 12122 68 Street NW\, Edmonton\, Alberta\, T5B 1R1\, Canada
ORGANIZER;CN="Caregivers Alberta":MAILTO:programs@caregivers.smwsites.com
END:VEVENT
END:VCALENDAR