BEGIN:VCALENDAR
VERSION:2.0
PRODID:-//Caregivers Alberta - ECPv6.7.0//NONSGML v1.0//EN
CALSCALE:GREGORIAN
METHOD:PUBLISH
X-ORIGINAL-URL:https://caregivers.smwsites.com
X-WR-CALDESC:Events for Caregivers Alberta
REFRESH-INTERVAL;VALUE=DURATION:PT1H
X-Robots-Tag:noindex
X-PUBLISHED-TTL:PT1H
BEGIN:VTIMEZONE
TZID:UTC
BEGIN:STANDARD
TZOFFSETFROM:+0000
TZOFFSETTO:+0000
TZNAME:UTC
DTSTART:20190101T000000
END:STANDARD
END:VTIMEZONE
BEGIN:VEVENT
DTSTART;TZID=UTC:20190924T130000
DTEND;TZID=UTC:20190924T140000
DTSTAMP:20260421T061307
CREATED:20190920T020541Z
LAST-MODIFIED:20190920T020541Z
UID:10000045-1569330000-1569333600@caregivers.smwsites.com
SUMMARY:Caregiver Stress: Techniques to Help You Manage
DESCRIPTION:Caring for a loved one is rewarding\, but can also create a lot of stress for the caregiver. \nJoin our Caregiver Advisor\, Lisa Adams for an online workshop on September 24th from 1:00pm – 2:00pm to learn simple yet effective ways to manage caregiving stress. \nPlease RSVP here. The link to the online workshop will be provided to you upon registration.
URL:https://caregivers.smwsites.com/calendar-event/caregiver-stress-techniques-to-help-you-manage/
LOCATION:Online
END:VEVENT
END:VCALENDAR