BEGIN:VCALENDAR
VERSION:2.0
PRODID:-//Caregivers Alberta - ECPv6.7.0//NONSGML v1.0//EN
CALSCALE:GREGORIAN
METHOD:PUBLISH
X-WR-CALNAME:Caregivers Alberta
X-ORIGINAL-URL:https://caregivers.smwsites.com
X-WR-CALDESC:Events for Caregivers Alberta
REFRESH-INTERVAL;VALUE=DURATION:PT1H
X-Robots-Tag:noindex
X-PUBLISHED-TTL:PT1H
BEGIN:VTIMEZONE
TZID:UTC
BEGIN:STANDARD
TZOFFSETFROM:+0000
TZOFFSETTO:+0000
TZNAME:UTC
DTSTART:20190101T000000
END:STANDARD
END:VTIMEZONE
BEGIN:VEVENT
DTSTART;TZID=UTC:20190917T090000
DTEND;TZID=UTC:20190917T230000
DTSTAMP:20260421T062022
CREATED:20190809T033617Z
LAST-MODIFIED:20190809T033617Z
UID:10000029-1568710800-1568761200@caregivers.smwsites.com
SUMMARY:Caregiver Support Team
DESCRIPTION:The Caregiver Support Team is an interagency group that aims to educate and connect service providers\, community agency staff and health professionals to better serve the caregivers in our community. \nThe monthly team meetings at the Caregiver Alberta office provide an opportunity to network with more than 40 member agencies and increase your knowledge of the community resources available to caregivers. \nCaregiver Support Team Meetings are on the third Tuesday of the month from 9:00am – 11:00am. If you would like to attend a meeting\, please contact Lisa Adams at 780-453-5088 or email ladams@caregivers.smwsites.com
URL:https://caregivers.smwsites.com/calendar-event/caregiver-support-team/
LOCATION:Jerry Forbes Centre\, 12122 68 Street NW\, Edmonton\, Alberta\, T5B 1R1\, Canada
ORGANIZER;CN="Caregivers Alberta":MAILTO:programs@caregivers.smwsites.com
END:VEVENT
END:VCALENDAR