BEGIN:VCALENDAR
VERSION:2.0
PRODID:-//Caregivers Alberta - ECPv6.7.0//NONSGML v1.0//EN
CALSCALE:GREGORIAN
METHOD:PUBLISH
X-WR-CALNAME:Caregivers Alberta
X-ORIGINAL-URL:https://caregivers.smwsites.com
X-WR-CALDESC:Events for Caregivers Alberta
REFRESH-INTERVAL;VALUE=DURATION:PT1H
X-Robots-Tag:noindex
X-PUBLISHED-TTL:PT1H
BEGIN:VTIMEZONE
TZID:UTC
BEGIN:STANDARD
TZOFFSETFROM:+0000
TZOFFSETTO:+0000
TZNAME:UTC
DTSTART:20190101T000000
END:STANDARD
TZID:America/Winnipeg
BEGIN:DAYLIGHT
TZOFFSETFROM:-0600
TZOFFSETTO:-0500
TZNAME:CDT
DTSTART:20190310T080000
END:DAYLIGHT
BEGIN:STANDARD
TZOFFSETFROM:-0500
TZOFFSETTO:-0600
TZNAME:CST
DTSTART:20191103T070000
END:STANDARD
END:VTIMEZONE
BEGIN:VEVENT
DTSTART;TZID=UTC:20190910T090000
DTEND;TZID=UTC:20190910T110000
DTSTAMP:20260421T061745
CREATED:20190808T000344Z
LAST-MODIFIED:20190808T000344Z
UID:10000027-1568106000-1568113200@caregivers.smwsites.com
SUMMARY:Ask the Experts
DESCRIPTION:Join Caregivers Alberta in partnership with Covenant Health\, on September 10th\, from 9:00am – 11:00am for Ask the Experts\, a presentation by the world renowned research team behind two caregiver and patient support assessment tools (CSNAT and SNAP). A panel Q&A and meet & greet featuring Dr. Gail Ewing\, Professor Gunn Grande\, and Dr. Morag Farquhar along with local caregiver experts will follow the presentation. \nThis is a great opportunity for you to not only learn about their research in the caregiving field\, but to also participate in an engaging Q&A and meet with other caregivers\, community partners\, and experts. Refreshments will be provided! \nWe kindly ask that you RSVP no later than Monday\, September 9th.
URL:https://caregivers.smwsites.com/calendar-event/ask-the-experts/
LOCATION:Jerry Forbes Centre\, 12122 68 Street NW\, Edmonton\, Alberta\, T5B 1R1\, Canada
ORGANIZER;CN="Caregivers Alberta":MAILTO:programs@caregivers.smwsites.com
END:VEVENT
BEGIN:VEVENT
DTSTART;TZID=America/Winnipeg:20190910T184500
DTEND;TZID=America/Winnipeg:20190910T200000
DTSTAMP:20260421T061745
CREATED:20190802T010107Z
LAST-MODIFIED:20190802T010107Z
UID:10000026-1568141100-1568145600@caregivers.smwsites.com
SUMMARY:LAUGH for a Cause: Caregivers Alberta
DESCRIPTION:Laughter is one of the best medicines. That’s why Caregivers Alberta has partnered with The Laughing Hour for LAUGH FOR A CAUSE! Join founder of The Laughing Hour\, Maude Bombardier on September 10th as she leads a one hour laughter yoga session at the Jerry Forbes Centre! \nEveryone is welcome! Absolutely no yoga experience needed\, only your willingness to laugh and have a blast. Join alone\, with a friend\, with your husband\, or your daughter. Laughter is for everyone\, and all the money raised through this event will be donated to Caregivers Alberta. \nTickets are priced from $5 to $100- you choose what you can donate! \nCaregivers Alberta would like to thank The Laughing Hour for kindly donating their time to put on this event!
URL:https://caregivers.smwsites.com/calendar-event/laugh-for-a-cause-caregivers-alberta/
LOCATION:Jerry Forbes Centre\, 12122 68 Street NW\, Edmonton\, Alberta\, T5B 1R1\, Canada
ORGANIZER;CN="Caregivers Alberta":MAILTO:programs@caregivers.smwsites.com
END:VEVENT
END:VCALENDAR